0.0525
0
0
-0.0525
613159.0695
4742243.99075
