0.0525
0
0
-0.0525
613802.0675
4742266.46625
