0.0525
0
0
-0.0525
614223.103
4742294.02325
