-0.0525
6.42918335756748E-18
6.42918335756748E-18
0.0525
605106.8215
4740822.59
