-0.0525
6.42918335756748E-18
6.42918335756748E-18
0.0525
605815.17575
4740892.651
