-0.0525
6.42918335756748E-18
6.42918335756748E-18
0.0525
606615.6795
4740910.91675
