-0.0525
6.42918335756748E-18
6.42918335756748E-18
0.0525
608401.14075
4740979.33825
