-0.0525
6.42918335756748E-18
6.42918335756748E-18
0.0525
608731.13975
4740992.74775
