-0.0525
6.42918335756748E-18
6.42918335756748E-18
0.0525
609372.76675
4740994.443
