-0.0525
6.42918335756748E-18
6.42918335756748E-18
0.0525
609666.7875
4740982.127
