-0.0525
6.42918335756748E-18
6.42918335756748E-18
0.0525
612643.737
4740977.8185
