-0.0525
6.42918335756748E-18
6.42918335756748E-18
0.0525
612960.09425
4741002.671
