0.0525
0
0
-0.0525
608048.476
4741292.152
