0.0525
0
0
-0.0525
605525.929
4740770.54075
