0.0525
0
0
-0.0525
606557.66825
4740781.21625
