0.0525
0
0
-0.0525
608684.8945
4740861.58475
