0.0525
0
0
-0.0525
609133.29825
4740885.134
