0.0525
0
0
-0.0525
611056.97175
4740933.6035
