0.0525
0
0
-0.0525
612205.51525
4740857.31575
