0.0525
0
0
-0.0525
612653.86275
4740817.9205
