-0.0525
6.42918335756748E-18
6.42918335756748E-18
0.0525
606311.25375
4739438.692
