-0.0525
6.42918335756748E-18
6.42918335756748E-18
0.0525
606544.27725
4739452.4945
