-0.0525
6.42918335756748E-18
6.42918335756748E-18
0.0525
607474.533
4739505.94
