-0.0525
6.42918335756748E-18
6.42918335756748E-18
0.0525
609245.3375
4739483.777
