-0.0525
6.42918335756748E-18
6.42918335756748E-18
0.0525
610794.4545
4739404.6775
