0.0525
0
0
-0.0525
605237.03025
4739850.20325
