0.0525
0
0
-0.0525
607317.6355
4739807.28125
