0.0525
0
0
-0.0525
608039.38475
4739806.69375
