0.0525
0
0
-0.0525
609145.732
4739792.65775
