0.0525
0
0
-0.0525
609800.97325
4739793.61475
