0.0525
0
0
-0.0525
610234.1195
4739798.48975
