0.0525
0
0
-0.0525
610882.68975
4739814.2295
