-0.0525
6.42918335756748E-18
6.42918335756748E-18
0.0525
608475.69825
4738422.275
