-0.0525
6.42918335756748E-18
6.42918335756748E-18
0.0525
611147.40875
4738359.187
