-0.0525
6.42918335756748E-18
6.42918335756748E-18
0.0525
611387.30575
4738361.8615
