-0.0525
6.42918335756748E-18
6.42918335756748E-18
0.0525
612057.2805
4738366.994
