0.259807621135332
-0.15
-0.15
-0.259807621135332
609490.786912729
4678090.96564943
