0.0747146023568809
-0.00653668070607436
-0.00653668070607436
-0.0747146023568809
622813.140317044
4784300.16082385
