0.0614364033216744
0.0430182327263285
0.0430182327263285
-0.0614364033216744
619939.950697665
4782389.03395796
