0.0614364033216744
0.0430182327263285
0.0430182327263285
-0.0614364033216744
621572.488524672
4783563.78898516
