0.0614364033216744
0.0430182327263285
0.0430182327263285
-0.0614364033216744
622223.565041067
4784034.02763037
