0.0574533332339234
0.0482090707264904
0.0482090707264904
-0.0574533332339234
620746.46575985
4782085.71834884
