0.0649519052838329
-0.0375
-0.0375
-0.0649519052838329
622068.863037642
4781959.74014682
