0.0614364033216744
-0.0430182327263285
-0.0430182327263285
-0.0614364033216744
622379.119363283
4781183.95117268
