0.0614364033216744
-0.0430182327263285
-0.0430182327263285
-0.0614364033216744
623268.311426881
4780592.625972
