0.0649519052838329
-0.0375
-0.0375
-0.0649519052838329
626202.619932945
4782963.59405664
