0.0649519052838329
-0.0375
-0.0375
-0.0649519052838329
626375.309545561
4782321.97546998
