0.0574533332339234
0.0482090707264904
0.0482090707264904
-0.0574533332339234
621015.287580133
4779683.01546329
