0.0614364033216744
0.0430182327263285
0.0430182327263285
-0.0614364033216744
619544.5334341
4778928.38103068
