0.0614364033216744
0.0430182327263285
0.0430182327263285
-0.0614364033216744
618485.887873521
4777829.15277315
